BEGIN:VCALENDAR
VERSION:2.0
PRODID:-// Riverside Church - ECPv4.9.6//NONSGML v1.0//EN
CALSCALE:GREGORIAN
METHOD:PUBLISH
X-WR-CALNAME: Riverside Church
X-ORIGINAL-URL:http://rscmn.org
X-WR-CALDESC:Events for  Riverside Church
BEGIN:VTIMEZONE
TZID:"UTC"
BEGIN:STANDARD
TZOFFSETFROM:+0000
TZOFFSETTO:+0000
TZNAME:UTC
DTSTART:20210101T000000
END:STANDARD
END:VTIMEZONE
BEGIN:VEVENT
DTSTART;TZID="UTC":20210915T180000
DTEND;TZID="UTC":20210915T190000
DTSTAMP:20260420T121627
CREATED:20210918T203030Z
LAST-MODIFIED:20210919T142859Z
UID:1932-1631728800-1631732400@rscmn.org
SUMMARY:Wednesday Night Bible Study
DESCRIPTION:Bible Study \n
URL:http://rscmn.org/event/bible-study-78/
LOCATION:Riverside Church\, 3401 Boardman St\, Minneapolis\, MN\, 55417\, United States
END:VEVENT
END:VCALENDAR