BEGIN:VCALENDAR
VERSION:2.0
PRODID:-// Riverside Church - ECPv4.9.6//NONSGML v1.0//EN
CALSCALE:GREGORIAN
METHOD:PUBLISH
X-WR-CALNAME: Riverside Church
X-ORIGINAL-URL:http://rscmn.org
X-WR-CALDESC:Events for  Riverside Church
BEGIN:VTIMEZONE
TZID:"UTC"
BEGIN:STANDARD
TZOFFSETFROM:+0000
TZOFFSETTO:+0000
TZNAME:UTC
DTSTART:20210101T000000
END:STANDARD
END:VTIMEZONE
BEGIN:VEVENT
DTSTART;TZID="UTC":20210926T084500
DTEND;TZID="UTC":20210926T170000
DTSTAMP:20260420T135600
CREATED:20210920T222434Z
LAST-MODIFIED:20210920T222434Z
UID:2627-1632645900-1632675600@rscmn.org
SUMMARY:New Members Class
DESCRIPTION:New Members Class @ 8:45 am \n
URL:http://rscmn.org/event/new-members-class/
LOCATION:Riverside Church\, 3401 Boardman St\, Minneapolis\, MN\, 55417\, United States
END:VEVENT
END:VCALENDAR