BEGIN:VCALENDAR
VERSION:2.0
PRODID:-// Riverside Church - ECPv4.9.6//NONSGML v1.0//EN
CALSCALE:GREGORIAN
METHOD:PUBLISH
X-WR-CALNAME: Riverside Church
X-ORIGINAL-URL:http://rscmn.org
X-WR-CALDESC:Events for  Riverside Church
BEGIN:VTIMEZONE
TZID:"UTC"
BEGIN:STANDARD
TZOFFSETFROM:+0000
TZOFFSETTO:+0000
TZNAME:UTC
DTSTART:20220101T000000
END:STANDARD
END:VTIMEZONE
BEGIN:VEVENT
DTSTART;TZID="UTC":20220330T120000
DTEND;TZID="UTC":20220330T130000
DTSTAMP:20260422T030749
CREATED:20211010T192023Z
LAST-MODIFIED:20211010T192023Z
UID:3044-1648641600-1648645200@rscmn.org
SUMMARY:Noon-Hour Prayer
DESCRIPTION:Join us in Prayer at noon on Wednesday’s \n
URL:http://rscmn.org/event/noon-hour-prayer-2-2-3-2-2-2-2-2-2-2-2-2-3-2-2-2-2/
LOCATION:Riverside Church\, 3401 Boardman St\, Minneapolis\, MN\, 55417\, United States
END:VEVENT
END:VCALENDAR