BEGIN:VCALENDAR
VERSION:2.0
PRODID:-// Riverside Church - ECPv4.9.6//NONSGML v1.0//EN
CALSCALE:GREGORIAN
METHOD:PUBLISH
X-WR-CALNAME: Riverside Church
X-ORIGINAL-URL:http://rscmn.org
X-WR-CALDESC:Events for  Riverside Church
BEGIN:VTIMEZONE
TZID:"UTC"
BEGIN:STANDARD
TZOFFSETFROM:+0000
TZOFFSETTO:+0000
TZNAME:UTC
DTSTART:20210101T000000
END:STANDARD
END:VTIMEZONE
BEGIN:VEVENT
DTSTART;TZID="UTC":20210912T103000
DTEND;TZID="UTC":20210912T103000
DTSTAMP:20260420T122506
CREATED:20210919T135344Z
LAST-MODIFIED:20211010T042855Z
UID:2584-1631442600-1631442600@rscmn.org
SUMMARY:Sunday Morning Worship Service
DESCRIPTION:Sunday Morning Worship Service \nProclamation of the word of God: \n  \nBuffalo Evangelical Free Church \n
URL:http://rscmn.org/event/sunday-morning-worship-service-2/
LOCATION:Riverside Church\, 3401 Boardman St\, Minneapolis\, MN\, 55417\, United States
END:VEVENT
END:VCALENDAR