BEGIN:VCALENDAR
VERSION:2.0
PRODID:-// Riverside Church - ECPv4.9.6//NONSGML v1.0//EN
CALSCALE:GREGORIAN
METHOD:PUBLISH
X-WR-CALNAME: Riverside Church
X-ORIGINAL-URL:http://rscmn.org
X-WR-CALDESC:Events for  Riverside Church
BEGIN:VTIMEZONE
TZID:"UTC"
BEGIN:STANDARD
TZOFFSETFROM:+0000
TZOFFSETTO:+0000
TZNAME:UTC
DTSTART:20210101T000000
END:STANDARD
END:VTIMEZONE
BEGIN:VEVENT
DTSTART;TZID="UTC":20210929T180000
DTEND;TZID="UTC":20210929T190000
DTSTAMP:20260422T104859
CREATED:20210919T235820Z
LAST-MODIFIED:20211009T173618Z
UID:2617-1632938400-1632942000@rscmn.org
SUMMARY:Wednesday Night Prayer
DESCRIPTION:Wednesday Night Prayer \nJoin us in Prayer: \nAgain I say unto you\, \nThat if two of you shall agree on earth as touching any thing that they shall ask\, \nit shall be done for them of my Father which is in heaven. \nMatthew 18:19 \n
URL:http://rscmn.org/event/wednesday-night-prayer-8/
LOCATION:Riverside Church\, 3401 Boardman St\, Minneapolis\, MN\, 55417\, United States
END:VEVENT
END:VCALENDAR