BEGIN:VCALENDAR
VERSION:2.0
PRODID:-// Riverside Church - ECPv4.9.6//NONSGML v1.0//EN
CALSCALE:GREGORIAN
METHOD:PUBLISH
X-WR-CALNAME: Riverside Church
X-ORIGINAL-URL:http://rscmn.org
X-WR-CALDESC:Events for  Riverside Church
BEGIN:VTIMEZONE
TZID:"UTC"
BEGIN:STANDARD
TZOFFSETFROM:+0000
TZOFFSETTO:+0000
TZNAME:UTC
DTSTART:20220101T000000
END:STANDARD
END:VTIMEZONE
BEGIN:VEVENT
DTSTART;TZID="UTC":20221106T084500
DTEND;TZID="UTC":20221106T094500
DTSTAMP:20260424T005021
CREATED:20221020T003040Z
LAST-MODIFIED:20221020T003040Z
UID:3131-1667724300-1667727900@rscmn.org
SUMMARY:Sunday School
DESCRIPTION:
URL:http://rscmn.org/event/sunday-school-151-3/
LOCATION:Riverside Church\, 3401 Boardman St\, Minneapolis\, MN\, 55417\, United States
END:VEVENT
BEGIN:VEVENT
DTSTART;TZID="UTC":20221106T103000
DTEND;TZID="UTC":20221106T130000
DTSTAMP:20260424T005021
CREATED:20221020T004812Z
LAST-MODIFIED:20221020T004812Z
UID:3163-1667730600-1667739600@rscmn.org
SUMMARY:Sunday Worship Service
DESCRIPTION:
URL:http://rscmn.org/event/sunday-worship-service-75-3/
LOCATION:Riverside Church\, 3401 Boardman St\, Minneapolis\, MN\, 55417\, United States
END:VEVENT
BEGIN:VEVENT
DTSTART;TZID="UTC":20221106T150000
DTEND;TZID="UTC":20221106T160000
DTSTAMP:20260424T005021
CREATED:20230210T023129Z
LAST-MODIFIED:20230210T023129Z
UID:3266-1667746800-1667750400@rscmn.org
SUMMARY:Evangelism
DESCRIPTION:“Also I heard the voice of the Lord\, saying\, Whom shall I send\, and who will go for us? \nThen said I\, Here am I; send me” (Isaiah 6:8). \n
URL:http://rscmn.org/event/evangelism-35-2-2-2-2-2-2-2-2-2-2-2-2-2-3-2-2-2-2-2-2-2-3-2/
LOCATION:Riverside Church\, 3401 Boardman St\, Minneapolis\, MN\, 55417\, United States
END:VEVENT
END:VCALENDAR