BEGIN:VCALENDAR
VERSION:2.0
PRODID:-// Riverside Church - ECPv4.9.6//NONSGML v1.0//EN
CALSCALE:GREGORIAN
METHOD:PUBLISH
X-WR-CALNAME: Riverside Church
X-ORIGINAL-URL:http://rscmn.org
X-WR-CALDESC:Events for  Riverside Church
BEGIN:VTIMEZONE
TZID:"UTC"
BEGIN:STANDARD
TZOFFSETFROM:+0000
TZOFFSETTO:+0000
TZNAME:UTC
DTSTART:20220101T000000
END:STANDARD
END:VTIMEZONE
BEGIN:VEVENT
DTSTART;TZID="UTC":20221120T084500
DTEND;TZID="UTC":20221120T094500
DTSTAMP:20260421T040358
CREATED:20221020T003216Z
LAST-MODIFIED:20221020T003216Z
UID:3137-1668933900-1668937500@rscmn.org
SUMMARY:Sunday School
DESCRIPTION:
URL:http://rscmn.org/event/sunday-school-151-3-3/
LOCATION:Riverside Church\, 3401 Boardman St\, Minneapolis\, MN\, 55417\, United States
END:VEVENT
BEGIN:VEVENT
DTSTART;TZID="UTC":20221120T084500
DTEND;TZID="UTC":20221120T094500
DTSTAMP:20260421T040358
CREATED:20230210T022814Z
LAST-MODIFIED:20230210T022814Z
UID:3262-1668933900-1668937500@rscmn.org
SUMMARY:New Members Class
DESCRIPTION:New Members Class – 4th Sunday’s \n
URL:http://rscmn.org/event/new-members-class-2-2-2-2-2-3-4-2/
LOCATION:Riverside Church\, 3401 Boardman St\, Minneapolis\, MN\, 55417\, United States
END:VEVENT
BEGIN:VEVENT
DTSTART;TZID="UTC":20221120T103000
DTEND;TZID="UTC":20221120T130000
DTSTAMP:20260421T040358
CREATED:20221020T005050Z
LAST-MODIFIED:20221020T005050Z
UID:3166-1668940200-1668949200@rscmn.org
SUMMARY:Sunday Worship Service
DESCRIPTION:
URL:http://rscmn.org/event/sunday-worship-service-75-5/
LOCATION:Riverside Church\, 3401 Boardman St\, Minneapolis\, MN\, 55417\, United States
END:VEVENT
BEGIN:VEVENT
DTSTART;TZID="UTC":20221120T150000
DTEND;TZID="UTC":20221120T160000
DTSTAMP:20260421T040358
CREATED:20230210T023409Z
LAST-MODIFIED:20230210T023409Z
UID:3267-1668956400-1668960000@rscmn.org
SUMMARY:Evangelism
DESCRIPTION:“Also I heard the voice of the Lord\, saying\, Whom shall I send\, and who will go for us? \nThen said I\, Here am I; send me” (Isaiah 6:8). \n
URL:http://rscmn.org/event/evangelism-35-2-2-2-2-2-2-2-2-2-2-2-2-2-3-2-2-2-2-2-2-2-3-3/
LOCATION:Riverside Church\, 3401 Boardman St\, Minneapolis\, MN\, 55417\, United States
END:VEVENT
END:VCALENDAR