BEGIN:VCALENDAR
VERSION:2.0
PRODID:-// Riverside Church - ECPv4.9.6//NONSGML v1.0//EN
CALSCALE:GREGORIAN
METHOD:PUBLISH
X-WR-CALNAME: Riverside Church
X-ORIGINAL-URL:http://rscmn.org
X-WR-CALDESC:Events for  Riverside Church
BEGIN:VTIMEZONE
TZID:"UTC"
BEGIN:STANDARD
TZOFFSETFROM:+0000
TZOFFSETTO:+0000
TZNAME:UTC
DTSTART:20230101T000000
END:STANDARD
END:VTIMEZONE
BEGIN:VEVENT
DTSTART;TZID="UTC":20230107T090000
DTEND;TZID="UTC":20230107T110000
DTSTAMP:20260421T005747
CREATED:20230210T022231Z
LAST-MODIFIED:20230210T022231Z
UID:3252-1673082000-1673089200@rscmn.org
SUMMARY:Men's Ministry
DESCRIPTION:
URL:http://rscmn.org/event/mens-ministry-19-2-2/
LOCATION:Riverside Church\, 3401 Boardman St\, Minneapolis\, MN\, 55417\, United States
END:VEVENT
BEGIN:VEVENT
DTSTART;TZID="UTC":20230107T150000
DTEND;TZID="UTC":20230107T160000
DTSTAMP:20260421T005747
CREATED:20230210T024041Z
LAST-MODIFIED:20230210T024041Z
UID:3268-1673103600-1673107200@rscmn.org
SUMMARY:Evangelism
DESCRIPTION:“Also I heard the voice of the Lord\, saying\, Whom shall I send\, and who will go for us? \nThen said I\, Here am I; send me” (Isaiah 6:8). \n
URL:http://rscmn.org/event/evangelism-35-2-2-2-2-2-2-2-2-2-2-2-2-2-3-2-2-2-2-2-2-2-3-4/
LOCATION:Riverside Church\, 3401 Boardman St\, Minneapolis\, MN\, 55417\, United States
END:VEVENT
BEGIN:VEVENT
DTSTART;TZID="UTC":20230107T150000
DTEND;TZID="UTC":20230107T160000
DTSTAMP:20260421T005747
CREATED:20230210T025233Z
LAST-MODIFIED:20230210T025233Z
UID:3276-1673103600-1673107200@rscmn.org
SUMMARY:Evangelism
DESCRIPTION:“Also I heard the voice of the Lord\, saying\, Whom shall I send\, and who will go for us? \nThen said I\, Here am I; send me” (Isaiah 6:8). \n
URL:http://rscmn.org/event/evangelism-35-2-2-2-2-2-2-2-2-2-2-2-2-2-3-2-2-2-2-2-2-2-3-7/
LOCATION:Riverside Church\, 3401 Boardman St\, Minneapolis\, MN\, 55417\, United States
END:VEVENT
BEGIN:VEVENT
DTSTART;TZID="UTC":20230107T160000
DTEND;TZID="UTC":20230107T180000
DTSTAMP:20260421T005747
CREATED:20230210T051750Z
LAST-MODIFIED:20230210T051750Z
UID:3471-1673107200-1673114400@rscmn.org
SUMMARY:Open Court Basketball
DESCRIPTION:
URL:http://rscmn.org/event/open-court-basketball-5-14/
LOCATION:MN
END:VEVENT
END:VCALENDAR