BEGIN:VCALENDAR
VERSION:2.0
PRODID:-// Riverside Church - ECPv4.9.6//NONSGML v1.0//EN
CALSCALE:GREGORIAN
METHOD:PUBLISH
X-WR-CALNAME: Riverside Church
X-ORIGINAL-URL:http://rscmn.org
X-WR-CALDESC:Events for  Riverside Church
BEGIN:VTIMEZONE
TZID:"UTC"
BEGIN:STANDARD
TZOFFSETFROM:+0000
TZOFFSETTO:+0000
TZNAME:UTC
DTSTART:20230101T000000
END:STANDARD
END:VTIMEZONE
BEGIN:VEVENT
DTSTART;TZID="UTC":20230201T120000
DTEND;TZID="UTC":20230201T130000
DTSTAMP:20260421T032721
CREATED:20230210T030630Z
LAST-MODIFIED:20230210T030630Z
UID:3299-1675252800-1675256400@rscmn.org
SUMMARY:Noon-Hour Prayer
DESCRIPTION:Join us in Prayer at noon on Wednesday’s \n
URL:http://rscmn.org/event/noon-hour-prayer-2-2-3-2-2-2-2-2-2-2-2-2-3-2-2-2-2-2-4-5/
LOCATION:Riverside Church\, 3401 Boardman St\, Minneapolis\, MN\, 55417\, United States
END:VEVENT
BEGIN:VEVENT
DTSTART;TZID="UTC":20230201T180000
DTEND;TZID="UTC":20230201T190000
DTSTAMP:20260421T032721
CREATED:20230210T040018Z
LAST-MODIFIED:20230210T040018Z
UID:3330-1675274400-1675278000@rscmn.org
SUMMARY:Wednesday Night Prayer
DESCRIPTION:Wednesday Night Prayer \nJoin us in Prayer: \n“Let us then approach God’s throne of grace with confidence\, \nso that we may receive mercy and find grace to help us in our time of need.” \nHebrews 4:16 \n\n
URL:http://rscmn.org/event/wednesday-night-prayer-8-2-2-2-2-2-2-2-2-2-2-2-3-2-2-2-2-6/
LOCATION:Riverside Church\, 3401 Boardman St\, Minneapolis\, MN\, 55417\, United States
END:VEVENT
BEGIN:VEVENT
DTSTART;TZID="UTC":20230201T190000
DTEND;TZID="UTC":20230201T200000
DTSTAMP:20260421T032721
CREATED:20230210T043008Z
LAST-MODIFIED:20230210T043008Z
UID:3370-1675278000-1675281600@rscmn.org
SUMMARY:Wednesday Night Bible Study
DESCRIPTION:“Study to shew thyself approved unto God\, a workman that needeth not to be ashamed\, \nrightly dividing the word of truth” (2 Timothy 2:15). \n
URL:http://rscmn.org/event/wednesday-night-bible-study-3-2-2-2-2-2-2-2-2-2-2-2-2-2-2-2-2-2-6/
LOCATION:Riverside Church\, 3401 Boardman St\, Minneapolis\, MN\, 55417\, United States
END:VEVENT
END:VCALENDAR