BEGIN:VCALENDAR
VERSION:2.0
PRODID:-// Riverside Church - ECPv4.9.6//NONSGML v1.0//EN
CALSCALE:GREGORIAN
METHOD:PUBLISH
X-WR-CALNAME: Riverside Church
X-ORIGINAL-URL:http://rscmn.org
X-WR-CALDESC:Events for  Riverside Church
BEGIN:VTIMEZONE
TZID:"UTC"
BEGIN:STANDARD
TZOFFSETFROM:+0000
TZOFFSETTO:+0000
TZNAME:UTC
DTSTART:20230101T000000
END:STANDARD
END:VTIMEZONE
BEGIN:VEVENT
DTSTART;TZID="UTC":20230205T084500
DTEND;TZID="UTC":20230205T094500
DTSTAMP:20260421T003215
CREATED:20230208T022534Z
LAST-MODIFIED:20230208T022534Z
UID:3206-1675586700-1675590300@rscmn.org
SUMMARY:Sunday School
DESCRIPTION:
URL:http://rscmn.org/event/sunday-school-151-3-5-5-5-2/
LOCATION:Riverside Church\, 3401 Boardman St\, Minneapolis\, MN\, 55417\, United States
END:VEVENT
BEGIN:VEVENT
DTSTART;TZID="UTC":20230205T103000
DTEND;TZID="UTC":20230205T130000
DTSTAMP:20260421T003215
CREATED:20230205T021809Z
LAST-MODIFIED:20230210T054357Z
UID:3196-1675593000-1675602000@rscmn.org
SUMMARY:Sunday Worship Service
DESCRIPTION:
URL:http://rscmn.org/event/sunday-worship-service-75-11-5/
LOCATION:Riverside Church\, 3401 Boardman St\, Minneapolis\, MN\, 55417\, United States
END:VEVENT
END:VCALENDAR