BEGIN:VCALENDAR
VERSION:2.0
PRODID:-// Riverside Church - ECPv4.9.6//NONSGML v1.0//EN
CALSCALE:GREGORIAN
METHOD:PUBLISH
X-WR-CALNAME: Riverside Church
X-ORIGINAL-URL:http://rscmn.org
X-WR-CALDESC:Events for  Riverside Church
BEGIN:VTIMEZONE
TZID:"UTC"
BEGIN:STANDARD
TZOFFSETFROM:+0000
TZOFFSETTO:+0000
TZNAME:UTC
DTSTART:20230101T000000
END:STANDARD
END:VTIMEZONE
BEGIN:VEVENT
DTSTART;TZID="UTC":20230219T084500
DTEND;TZID="UTC":20230219T094500
DTSTAMP:20260423T215340
CREATED:20230208T022737Z
LAST-MODIFIED:20230208T022737Z
UID:3209-1676796300-1676799900@rscmn.org
SUMMARY:Sunday School
DESCRIPTION:
URL:http://rscmn.org/event/sunday-school-151-3-5-5-5-2-3/
LOCATION:Riverside Church\, 3401 Boardman St\, Minneapolis\, MN\, 55417\, United States
END:VEVENT
BEGIN:VEVENT
DTSTART;TZID="UTC":20230219T103000
DTEND;TZID="UTC":20230219T130000
DTSTAMP:20260423T215340
CREATED:20230208T022300Z
LAST-MODIFIED:20230210T054653Z
UID:3199-1676802600-1676811600@rscmn.org
SUMMARY:Sunday Worship Service
DESCRIPTION:
URL:http://rscmn.org/event/sunday-worship-service-75-11-5-3/
LOCATION:Riverside Church\, 3401 Boardman St\, Minneapolis\, MN\, 55417\, United States
END:VEVENT
END:VCALENDAR