BEGIN:VCALENDAR
VERSION:2.0
PRODID:-// Riverside Church - ECPv4.9.6//NONSGML v1.0//EN
CALSCALE:GREGORIAN
METHOD:PUBLISH
X-WR-CALNAME: Riverside Church
X-ORIGINAL-URL:http://rscmn.org
X-WR-CALDESC:Events for  Riverside Church
BEGIN:VTIMEZONE
TZID:"UTC"
BEGIN:STANDARD
TZOFFSETFROM:+0000
TZOFFSETTO:+0000
TZNAME:UTC
DTSTART:20230101T000000
END:STANDARD
END:VTIMEZONE
BEGIN:VEVENT
DTSTART;TZID="UTC":20230226T084500
DTEND;TZID="UTC":20230226T094500
DTSTAMP:20260424T071824
CREATED:20230208T022807Z
LAST-MODIFIED:20230208T022807Z
UID:3210-1677401100-1677404700@rscmn.org
SUMMARY:Sunday School
DESCRIPTION:
URL:http://rscmn.org/event/sunday-school-151-3-5-5-5-2-4/
LOCATION:Riverside Church\, 3401 Boardman St\, Minneapolis\, MN\, 55417\, United States
END:VEVENT
BEGIN:VEVENT
DTSTART;TZID="UTC":20230226T084500
DTEND;TZID="UTC":20230226T094500
DTSTAMP:20260424T071824
CREATED:20230210T013003Z
LAST-MODIFIED:20230210T013003Z
UID:3235-1677401100-1677404700@rscmn.org
SUMMARY:New Members Class
DESCRIPTION:New Members Class – 4th Sunday’s \n
URL:http://rscmn.org/event/new-members-class-2-2-2-2-2-3-3/
LOCATION:Riverside Church\, 3401 Boardman St\, Minneapolis\, MN\, 55417\, United States
END:VEVENT
BEGIN:VEVENT
DTSTART;TZID="UTC":20230226T103000
DTEND;TZID="UTC":20230226T130000
DTSTAMP:20260424T071824
CREATED:20230208T022355Z
LAST-MODIFIED:20230210T061235Z
UID:3203-1677407400-1677416400@rscmn.org
SUMMARY:Sunday Worship Service
DESCRIPTION:
URL:http://rscmn.org/event/sunday-worship-service-75-11-5-4/
LOCATION:Riverside Church\, 3401 Boardman St\, Minneapolis\, MN\, 55417\, United States
END:VEVENT
END:VCALENDAR