BEGIN:VCALENDAR
VERSION:2.0
PRODID:-// Riverside Church - ECPv4.9.6//NONSGML v1.0//EN
CALSCALE:GREGORIAN
METHOD:PUBLISH
X-WR-CALNAME: Riverside Church
X-ORIGINAL-URL:http://rscmn.org
X-WR-CALDESC:Events for  Riverside Church
BEGIN:VTIMEZONE
TZID:"UTC"
BEGIN:STANDARD
TZOFFSETFROM:+0000
TZOFFSETTO:+0000
TZNAME:UTC
DTSTART:20230101T000000
END:STANDARD
END:VTIMEZONE
BEGIN:VEVENT
DTSTART;TZID="UTC":20230317T183000
DTEND;TZID="UTC":20230317T183000
DTSTAMP:20260421T053615
CREATED:20230210T041822Z
LAST-MODIFIED:20230210T041822Z
UID:3367-1679077800-1679077800@rscmn.org
SUMMARY:Movie Night
DESCRIPTION:
URL:http://rscmn.org/event/movie-night-3/
END:VEVENT
END:VCALENDAR