BEGIN:VCALENDAR
VERSION:2.0
PRODID:-// Riverside Church - ECPv4.9.6//NONSGML v1.0//EN
CALSCALE:GREGORIAN
METHOD:PUBLISH
X-WR-CALNAME: Riverside Church
X-ORIGINAL-URL:http://rscmn.org
X-WR-CALDESC:Events for  Riverside Church
BEGIN:VTIMEZONE
TZID:"UTC"
BEGIN:STANDARD
TZOFFSETFROM:+0000
TZOFFSETTO:+0000
TZNAME:UTC
DTSTART:20230101T000000
END:STANDARD
END:VTIMEZONE
BEGIN:VEVENT
DTSTART;TZID="UTC":20230405T120000
DTEND;TZID="UTC":20230405T130000
DTSTAMP:20260420T193632
CREATED:20230210T020543Z
LAST-MODIFIED:20230210T020543Z
UID:3246-1680696000-1680699600@rscmn.org
SUMMARY:Noon-Hour Prayer
DESCRIPTION:Join us in Prayer at noon on Wednesday’s \n
URL:http://rscmn.org/event/noon-hour-prayer-2-2-3-2-2-2-2-2-2-2-2-2-3-2-2-2-2-2-4/
LOCATION:Riverside Church\, 3401 Boardman St\, Minneapolis\, MN\, 55417\, United States
END:VEVENT
BEGIN:VEVENT
DTSTART;TZID="UTC":20230405T180000
DTEND;TZID="UTC":20230405T190000
DTSTAMP:20260420T193632
CREATED:20230210T020940Z
LAST-MODIFIED:20230210T020940Z
UID:3248-1680717600-1680721200@rscmn.org
SUMMARY:Wednesday Night Prayer
DESCRIPTION:Wednesday Night Prayer \nJoin us in Prayer: \n“Let us then approach God’s throne of grace with confidence\, \nso that we may receive mercy and find grace to help us in our time of need.” \nHebrews 4:16 \n\n
URL:http://rscmn.org/event/wednesday-night-prayer-8-2-2-2-2-2-2-2-2-2-2-2-3-2-2-2-2/
LOCATION:Riverside Church\, 3401 Boardman St\, Minneapolis\, MN\, 55417\, United States
END:VEVENT
BEGIN:VEVENT
DTSTART;TZID="UTC":20230405T190000
DTEND;TZID="UTC":20230405T200000
DTSTAMP:20260420T193632
CREATED:20230210T021107Z
LAST-MODIFIED:20230210T021107Z
UID:3249-1680721200-1680724800@rscmn.org
SUMMARY:Wednesday Night Bible Study
DESCRIPTION:“Study to shew thyself approved unto God\, a workman that needeth not to be ashamed\, \nrightly dividing the word of truth” (2 Timothy 2:15). \n
URL:http://rscmn.org/event/wednesday-night-bible-study-3-2-2-2-2-2-2-2-2-2-2-2-2-2-2-2-2/
LOCATION:Riverside Church\, 3401 Boardman St\, Minneapolis\, MN\, 55417\, United States
END:VEVENT
BEGIN:VEVENT
DTSTART;TZID="UTC":20230405T190000
DTEND;TZID="UTC":20230405T200000
DTSTAMP:20260420T193632
CREATED:20230210T043927Z
LAST-MODIFIED:20230210T043927Z
UID:3394-1680721200-1680724800@rscmn.org
SUMMARY:Wednesday Night Bible Study
DESCRIPTION:“Study to shew thyself approved unto God\, a workman that needeth not to be ashamed\, \nrightly dividing the word of truth” (2 Timothy 2:15). \n
URL:http://rscmn.org/event/wednesday-night-bible-study-3-2-2-2-2-2-2-2-2-2-2-2-2-2-2-2-2-2-16/
LOCATION:Riverside Church\, 3401 Boardman St\, Minneapolis\, MN\, 55417\, United States
END:VEVENT
BEGIN:VEVENT
DTSTART;TZID="UTC":20230405T190000
DTEND;TZID="UTC":20230405T200000
DTSTAMP:20260420T193632
CREATED:20230210T045412Z
LAST-MODIFIED:20230210T045412Z
UID:3417-1680721200-1680724800@rscmn.org
SUMMARY:Wednesday Night Bible Study
DESCRIPTION:“Study to shew thyself approved unto God\, a workman that needeth not to be ashamed\, \nrightly dividing the word of truth” (2 Timothy 2:15). \n
URL:http://rscmn.org/event/wednesday-night-bible-study-3-2-2-2-2-2-2-2-2-2-2-2-2-2-2-2-2-2-23-2/
LOCATION:Riverside Church\, 3401 Boardman St\, Minneapolis\, MN\, 55417\, United States
END:VEVENT
END:VCALENDAR