BEGIN:VCALENDAR
VERSION:2.0
PRODID:-// Riverside Church - ECPv4.9.6//NONSGML v1.0//EN
CALSCALE:GREGORIAN
METHOD:PUBLISH
X-WR-CALNAME: Riverside Church
X-ORIGINAL-URL:http://rscmn.org
X-WR-CALDESC:Events for  Riverside Church
BEGIN:VTIMEZONE
TZID:"UTC"
BEGIN:STANDARD
TZOFFSETFROM:+0000
TZOFFSETTO:+0000
TZNAME:UTC
DTSTART:20230101T000000
END:STANDARD
END:VTIMEZONE
BEGIN:VEVENT
DTSTART;TZID="UTC":20230408T100000
DTEND;TZID="UTC":20230408T140000
DTSTAMP:20260421T004719
CREATED:20230210T020135Z
LAST-MODIFIED:20230210T025623Z
UID:3244-1680948000-1680962400@rscmn.org
SUMMARY:Riverside Community Outreach Food Shelf
DESCRIPTION:If you need food assistance\, please stop in and visit our food shelf from 10:00 am – 2:00 pm. \n
URL:http://rscmn.org/event/riverside-community-outreach-food-shelf-3-2-3/
LOCATION:Riverside Church\, 3401 Boardman St\, Minneapolis\, MN\, 55417\, United States
END:VEVENT
BEGIN:VEVENT
DTSTART;TZID="UTC":20230408T160000
DTEND;TZID="UTC":20230408T180000
DTSTAMP:20260421T004719
CREATED:20230210T045313Z
LAST-MODIFIED:20230210T050430Z
UID:3416-1680969600-1680976800@rscmn.org
SUMMARY:Open Court Basketball
DESCRIPTION:
URL:http://rscmn.org/event/open-court-basketball-4/
LOCATION:MN
END:VEVENT
END:VCALENDAR